BEGIN:VCALENDAR
VERSION:2.0
PRODID:-//MissouriAuctions.net v1//EN
BEGIN:VEVENT
DTSTAMP:20260421T094756Z
STATUS:CONFIRMED
UID:0b3f039ff006d6a9f71649a17ab52da7@MissouriAuctions.net
DTSTART:20260428T150000Z
DTEND:20260428T160000Z
SUMMARY:Bid By Phone Land Auction - Burkhart Real Estate & Auction
DESCRIPTION:148+/- Total Acres in Kiowa County, Kansas Selling in One
  Individual Tract
  https://www.missouriauctions.net/calendar/burkhart/70282/
LOCATION:Kiowa, KS
TRANSP:OPAQUE
END:VEVENT
END:VCALENDAR