BEGIN:VCALENDAR
VERSION:2.0
PRODID:-//MissouriAuctions.net v1//EN
BEGIN:VEVENT
DTSTAMP:20260421T094724Z
STATUS:CONFIRMED
UID:b454951962e817041d7ba6f8c540c86c@MissouriAuctions.net
DTSTART:20260502T150000Z
DTEND:20260502T160000Z
SUMMARY:Public Auction - Berning Auction, Inc.
DESCRIPTION:Furniture and Appliances, Antique Furniture, Collectables,
  Coins, Household Items
  https://www.missouriauctions.net/calendar/berning/70280/
LOCATION:506 M St Leoti, KS
TRANSP:OPAQUE
END:VEVENT
END:VCALENDAR