BEGIN:VCALENDAR
VERSION:2.0
PRODID:-//MissouriAuctions.net v1//EN
BEGIN:VEVENT
DTSTAMP:20260421T122548Z
STATUS:CONFIRMED
UID:7b716bfc215d4154382f32d931be2e4e@MissouriAuctions.net
DTSTART:20260723T230000Z
DTEND:20260724T000000Z
SUMMARY:Consignment Auction - Andrew Turner Auctions
DESCRIPTION:Weekly Auction Generally Consists of: Furniture, Antiques,
  Collectibles, Art, Artifacts, Militaria, Jewelry, Gold/Silver, Retro,
  Glass, China, Sports Memorabilia, Beer & Distillery Related, Stamps, Coins,
  Lighting, Vintage Holiday, Automobile Items, Scouting Collectibles,
  Railroad
  https://www.missouriauctions.net/calendar/kctagsale/70277/
LOCATION:1801 Guinotte Kansas City, MO
TRANSP:OPAQUE
END:VEVENT
END:VCALENDAR