BEGIN:VCALENDAR
VERSION:2.0
PRODID:-//MissouriAuctions.net v1//EN
BEGIN:VEVENT
DTSTAMP:20260421T094828Z
STATUS:CONFIRMED
UID:7a8cb97dec44ddf67ffdb03a40d236e8@MissouriAuctions.net
DTSTART:20260716T230000Z
DTEND:20260717T000000Z
SUMMARY:Consignment Auction - Andrew Turner Auctions
DESCRIPTION:Weekly Auction Generally Consists of: Furniture, Antiques,
  Collectibles, Art, Artifacts, Militaria, Jewelry, Gold/Silver, Retro,
  Glass, China, Sports Memorabilia, Beer & Distillery Related, Stamps, Coins,
  Lighting, Vintage Holiday, Automobile Items, Scouting Collectibles,
  Railroad
  https://www.missouriauctions.net/calendar/kctagsale/70276/
LOCATION:1801 Guinotte Kansas City, MO
TRANSP:OPAQUE
END:VEVENT
END:VCALENDAR