BEGIN:VCALENDAR
VERSION:2.0
PRODID:-//MissouriAuctions.net v1//EN
BEGIN:VEVENT
DTSTAMP:20260423T083324Z
STATUS:CONFIRMED
UID:4ddf91bba1da19e7b927163a3779140d@MissouriAuctions.net
DTSTART:20260425T140000Z
DTEND:20260425T150000Z
SUMMARY:Public Auction - Kurtz Auction & Realty Service
DESCRIPTION:Large Shop Contents, Antiques / Collectibles
  https://www.missouriauctions.net/calendar/kurtz/70273/
LOCATION:2526 Planter Rd Waverly, KS
TRANSP:OPAQUE
END:VEVENT
END:VCALENDAR