BEGIN:VCALENDAR
VERSION:2.0
PRODID:-//MissouriAuctions.net v1//EN
BEGIN:VEVENT
DTSTAMP:20260421T094728Z
STATUS:CONFIRMED
UID:7139782e3856d94de0951dd2ea643e93@MissouriAuctions.net
DTSTART:20260419T180000Z
DTEND:20260419T190000Z
SUMMARY:Retirement Auction - Rafter 4B Auction Service
DESCRIPTION:Tractors, Truck, Farm Equipment, Miscellaneous
  https://www.missouriauctions.net/calendar/rafter4b/70261/
LOCATION:1140 NE 70th St Topeka, KS
TRANSP:OPAQUE
END:VEVENT
END:VCALENDAR