BEGIN:VCALENDAR
VERSION:2.0
PRODID:-//MissouriAuctions.net v1//EN
BEGIN:VEVENT
DTSTAMP:20260421T111142Z
STATUS:CONFIRMED
UID:ffd11a179904ac5e0832bc50ac6e253b@MissouriAuctions.net
DTSTART:20260606T150000Z
DTEND:20260606T160000Z
SUMMARY:Live Auction - Ken Patterson, Auctioneer
DESCRIPTION:Tools, Outdoors, Household, Primitives, Mowers, Multiple
  Vehicles including 62 Impala and 49 Hudson
  https://www.missouriauctions.net/calendar/kenpatterson/70259/
LOCATION:10283 SW White Rd Augusta, KS
TRANSP:OPAQUE
END:VEVENT
END:VCALENDAR