BEGIN:VCALENDAR
VERSION:2.0
PRODID:-//MissouriAuctions.net v1//EN
BEGIN:VEVENT
DTSTAMP:20260420T000954Z
STATUS:CONFIRMED
UID:98f6d1ed9e6fa5d9424181d214229a4c@MissouriAuctions.net
DTSTART:20260421T000000Z
DTEND:20260421T010000Z
SUMMARY:Online Auction - Everything Auction Exchange LLC
DESCRIPTION:This is a great auction, has a little bit of everything,
  vintage games, Hallmark Christmas ornaments, Railroad books, Model train
  tracks, Tools, Toy boats, take a look and start bidding!
  https://www.missouriauctions.net/calendar/everythingauctionexchange/70257/
LOCATION:Olathe, KS
TRANSP:OPAQUE
END:VEVENT
END:VCALENDAR