BEGIN:VCALENDAR
VERSION:2.0
PRODID:-//MissouriAuctions.net v1//EN
BEGIN:VEVENT
DTSTAMP:20260421T122532Z
STATUS:CONFIRMED
UID:36a0443a1a6aba85c7c429c5a7bc2e2d@MissouriAuctions.net
DTSTART:20260425T140000Z
DTEND:20260425T150000Z
SUMMARY:Public Auction - SunGroup Real Estate
DESCRIPTION:Farm, Firearms, Bow, Antique, Vintage, Misc
  https://www.missouriauctions.net/calendar/sungroup/70256/
LOCATION:1758 US 160 Elk Falls, KS
TRANSP:OPAQUE
END:VEVENT
END:VCALENDAR