BEGIN:VCALENDAR
VERSION:2.0
PRODID:-//MissouriAuctions.net v1//EN
BEGIN:VEVENT
DTSTAMP:20260421T132815Z
STATUS:CONFIRMED
UID:be318ba3dc0132497c0cfaac00e188a5@MissouriAuctions.net
DTSTART:20260425T123000Z
DTEND:20260425T133000Z
SUMMARY:Large Estate Tag Sale - Green Mountain Sales
DESCRIPTION:Appliances, Household, Furniture, Vintage Antiques &
  Collectibles, Yard, Garden & Patio, Mens & Womens Apparel, Tools, Quality
  Miscellaneous Items, Owner
  https://www.missouriauctions.net/calendar/greenmountain/70254/
LOCATION:920 Columbia Ave Leavenworth, KS
TRANSP:OPAQUE
END:VEVENT
END:VCALENDAR