BEGIN:VCALENDAR
VERSION:2.0
PRODID:-//MissouriAuctions.net v1//EN
BEGIN:VEVENT
DTSTAMP:20260421T121926Z
STATUS:CONFIRMED
UID:600ef0daf0971e230454f689cb3fd143@MissouriAuctions.net
DTSTART:20260425T150000Z
DTEND:20260425T160000Z
SUMMARY:Public Auction - LG Auction Company
DESCRIPTION:Household, Shop & Misc, Riding Mowers, Arctic Cat 4 Wheeler
  https://www.missouriauctions.net/calendar/lg/70241/
LOCATION:108 1st St Hiawatha, KS
TRANSP:OPAQUE
END:VEVENT
END:VCALENDAR