BEGIN:VCALENDAR
VERSION:2.0
PRODID:-//MissouriAuctions.net v1//EN
BEGIN:VEVENT
DTSTAMP:20260421T111300Z
STATUS:CONFIRMED
UID:dd4a6386ad5b84d6103b5fa48b841896@MissouriAuctions.net
DTSTART:20260501T150000Z
DTEND:20260501T160000Z
SUMMARY:Estate Auction - Hancock Auction & Realty
DESCRIPTION:Selling A Great Collection of Firearms! Gun Safes, Reloading,
  Ammo, Shells, Knives, Scopes, Silver, Rolex Watch & Jewelry
  https://www.missouriauctions.net/calendar/hancock/70240/
LOCATION:2248 ZZ Road Strong City, KS
TRANSP:OPAQUE
END:VEVENT
END:VCALENDAR