BEGIN:VCALENDAR
VERSION:2.0
PRODID:-//MissouriAuctions.net v1//EN
BEGIN:VEVENT
DTSTAMP:20260421T082526Z
STATUS:CONFIRMED
UID:cb09c78b648d591d3d983f523e20bad9@MissouriAuctions.net
DTSTART:20260424T150000Z
DTEND:20260424T160000Z
SUMMARY:Morstorf Estate Auction - Hancock Auction & Realty
DESCRIPTION:Hit & Miss Engines, Small Engines, Shop Items, Tractor Parts,
  Equipment, Farm Primitives, New Stuff
  https://www.missouriauctions.net/calendar/hancock/70239/
LOCATION:511 Cochran Lebo, KS
TRANSP:OPAQUE
END:VEVENT
END:VCALENDAR