BEGIN:VCALENDAR
VERSION:2.0
PRODID:-//MissouriAuctions.net v1//EN
BEGIN:VEVENT
DTSTAMP:20260421T122017Z
STATUS:CONFIRMED
UID:2da0552e946af94698cca65a4149ba1a@MissouriAuctions.net
DTSTART:20260425T150000Z
DTEND:20260425T160000Z
SUMMARY:Live Auction - Ken Patterson, Auctioneer
DESCRIPTION:Equipment, Tools, Primitives, Lots More Items
  https://www.missouriauctions.net/calendar/kenpatterson/70235/
LOCATION:4205 S Rock Rd Derby, KS
TRANSP:OPAQUE
END:VEVENT
END:VCALENDAR