BEGIN:VCALENDAR
VERSION:2.0
PRODID:-//MissouriAuctions.net v1//EN
BEGIN:VEVENT
DTSTAMP:20260421T135605Z
STATUS:CONFIRMED
UID:d7b250975be57a843c5c808bcfb3cad8@MissouriAuctions.net
DTSTART:20260509T150000Z
DTEND:20260509T160000Z
SUMMARY:Public Auction - Kearn Auction House
DESCRIPTION:Vehicles, Guns, Toys, Antiques & Household Items
  https://www.missouriauctions.net/calendar/kearn/70234/
LOCATION:Concordia, KS
TRANSP:OPAQUE
END:VEVENT
END:VCALENDAR