BEGIN:VCALENDAR
VERSION:2.0
PRODID:-//MissouriAuctions.net v1//EN
BEGIN:VEVENT
DTSTAMP:20260420T000732Z
STATUS:CONFIRMED
UID:415269cdb1114583eebb3f8369fd9fb9@MissouriAuctions.net
DTSTART:20260424T000000Z
DTEND:20260424T010000Z
SUMMARY:Online Auction - Wiens Auction/Realty LLC
DESCRIPTION:Vintage Toys ~ Vintage Uniforms ~ Ephemera ~ and More
  https://www.missouriauctions.net/calendar/wiens/70230/
LOCATION:319 N Washington Ave Wellington, KS
TRANSP:OPAQUE
END:VEVENT
END:VCALENDAR