BEGIN:VCALENDAR
VERSION:2.0
PRODID:-//MissouriAuctions.net v1//EN
BEGIN:VEVENT
DTSTAMP:20260421T111322Z
STATUS:CONFIRMED
UID:f27d010de61fc060bfad1fa4580c3871@MissouriAuctions.net
DTSTART:20260502T143000Z
DTEND:20260502T153000Z
SUMMARY:Public Auction - Chew Auction Service
DESCRIPTION:2016 Buick Enclave, 2021 JD 2032 MFWD Tractor, Guns, Lawn
  Equipment, Golf Cart, Power & Hand Tools, Collectibles, Household,
  Miscellaneous
  https://www.missouriauctions.net/calendar/chew/70217/
LOCATION:716 1st Ave W Horton, KS
TRANSP:OPAQUE
END:VEVENT
END:VCALENDAR