BEGIN:VCALENDAR
VERSION:2.0
PRODID:-//MissouriAuctions.net v1//EN
BEGIN:VEVENT
DTSTAMP:20260421T115539Z
STATUS:CONFIRMED
UID:e61ab4a333c6a2b76beca0042fc4bfe6@MissouriAuctions.net
DTSTART:20260518T000000Z
DTEND:20260518T010000Z
SUMMARY:Book Auction - Gold River Auction
DESCRIPTION:Science Fiction First Editions / Pulps & More!!
  https://www.missouriauctions.net/calendar/goldriver/70213/
LOCATION:17519 S Bond Ave Overland Park, KS
TRANSP:OPAQUE
END:VEVENT
END:VCALENDAR