BEGIN:VCALENDAR
VERSION:2.0
PRODID:-//MissouriAuctions.net v1//EN
BEGIN:VEVENT
DTSTAMP:20260421T094944Z
STATUS:CONFIRMED
UID:984bcace181f5b0596b7118e8fa30879@MissouriAuctions.net
DTSTART:20260501T130000Z
DTEND:20260501T140000Z
SUMMARY:Estate Sale - Moore Auction Service
DESCRIPTION:Lawn Items & Equipment, Military Collectibles, Antiques,
  Household Items, Shop Items, Miscellaneous
  https://www.missouriauctions.net/calendar/moore/70186/
LOCATION:17620 Millwood Rd Leavenworth, KS
TRANSP:OPAQUE
END:VEVENT
END:VCALENDAR