BEGIN:VCALENDAR
VERSION:2.0
PRODID:-//MissouriAuctions.net v1//EN
BEGIN:VEVENT
DTSTAMP:20260421T094913Z
STATUS:CONFIRMED
UID:449bc006a8b62f029ec3e3b9a0cefb73@MissouriAuctions.net
DTSTART:20260430T130000Z
DTEND:20260430T140000Z
SUMMARY:Estate Sale - Moore Auction Service
DESCRIPTION:Lawn Items & Equipment, Military Collectibles, Antiques,
  Household Items, Shop Items, Miscellaneous
  https://www.missouriauctions.net/calendar/moore/70185/
LOCATION:17620 Millwood Rd Leavenworth, KS
TRANSP:OPAQUE
END:VEVENT
END:VCALENDAR