BEGIN:VCALENDAR
VERSION:2.0
PRODID:-//MissouriAuctions.net v1//EN
BEGIN:VEVENT
DTSTAMP:20260421T115414Z
STATUS:CONFIRMED
UID:d45620046cfdb49f4fc8bdcdec33847c@MissouriAuctions.net
DTSTART:20260517T150000Z
DTEND:20260517T160000Z
SUMMARY:Antique Auction - Thummel Real Estate & Auction LLC
DESCRIPTION:Toys & Collectables Auction
  https://www.missouriauctions.net/calendar/thummel/70176/
LOCATION:900 Greeley Salina, KS
TRANSP:OPAQUE
END:VEVENT
END:VCALENDAR