BEGIN:VCALENDAR
VERSION:2.0
PRODID:-//MissouriAuctions.net v1//EN
BEGIN:VEVENT
DTSTAMP:20260421T115526Z
STATUS:CONFIRMED
UID:15c6c15253953a7cd078dbdb7666a7b4@MissouriAuctions.net
DTSTART:20260516T150000Z
DTEND:20260516T160000Z
SUMMARY:Antique Auction - Thummel Real Estate & Auction LLC
DESCRIPTION:Harley Davidson, Coca Cola, Collectables
  https://www.missouriauctions.net/calendar/thummel/70175/
LOCATION:900 Greeley Salina, KS
TRANSP:OPAQUE
END:VEVENT
END:VCALENDAR