BEGIN:VCALENDAR
VERSION:2.0
PRODID:-//MissouriAuctions.net v1//EN
BEGIN:VEVENT
DTSTAMP:20260421T121837Z
STATUS:CONFIRMED
UID:e70422a1bbd1c3aa784d0b82b61eeb54@MissouriAuctions.net
DTSTART:20260505T200000Z
DTEND:20260505T210000Z
SUMMARY:Real Estate Auction - Thummel Real Estate & Auction LLC
DESCRIPTION:W ½ NW ¼ 5-3-7 & E ½ NE ¼ 6-3-7 Jewell Co. Kansas
  https://www.missouriauctions.net/calendar/thummel/70174/
LOCATION:214 N High Mankato, KS
TRANSP:OPAQUE
END:VEVENT
END:VCALENDAR