BEGIN:VCALENDAR
VERSION:2.0
PRODID:-//MissouriAuctions.net v1//EN
BEGIN:VEVENT
DTSTAMP:20260419T221039Z
STATUS:CONFIRMED
UID:44ae23cce9d5ccb6ce8b9cd697c60da1@MissouriAuctions.net
DTSTART:20260422T170000Z
DTEND:20260422T180000Z
SUMMARY:Real Estate & Personal Property Auction - Iman Auction Company
DESCRIPTION:2 Bedroom Ranch home situated on a nice large lot. Car, Large
  Car Port, Appliances, Pool Table, Guitar, Toys, Household & Collectibles,
  Outdoor Items, Tools, Lawn Mowers
  https://www.missouriauctions.net/calendar/imanauction/70157/
LOCATION:310 W 3rd St Salisbury, MO
TRANSP:OPAQUE
END:VEVENT
END:VCALENDAR