BEGIN:VCALENDAR
VERSION:2.0
PRODID:-//MissouriAuctions.net v1//EN
BEGIN:VEVENT
DTSTAMP:20260421T110811Z
STATUS:CONFIRMED
UID:a2544e08fff10eff1e9906487978754f@MissouriAuctions.net
DTSTART:20260430T230000Z
DTEND:20260501T000000Z
SUMMARY:Land Auction - Griffin Real Estate & Auction Service
DESCRIPTION:234+/- Acres in 3 Tracts in Lyon CO
  https://www.missouriauctions.net/calendar/rickgriffin/70154/
LOCATION:1801 Rural St Emporia, KS
TRANSP:OPAQUE
END:VEVENT
END:VCALENDAR