BEGIN:VCALENDAR
VERSION:2.0
PRODID:-//MissouriAuctions.net v1//EN
BEGIN:VEVENT
DTSTAMP:20260421T095127Z
STATUS:CONFIRMED
UID:c5349f471a6492361742dd6a09c2357b@MissouriAuctions.net
DTSTART:20260606T150000Z
DTEND:20260606T160000Z
SUMMARY:Real Estate Auction - Ron Stricker's Auction
DESCRIPTION:1585 sq. ft. Raised ranch on .28 acres. 500 sq. ft. finished
  basement. 4 bedroom 3 full bathroom, 2 car garage. Built 1977 in the
  Northwest Woods Subdivision.
  https://www.missouriauctions.net/calendar/ronstricker/70145/
LOCATION:6926 Albervan St Shawnee, KS
TRANSP:OPAQUE
END:VEVENT
END:VCALENDAR