BEGIN:VCALENDAR
VERSION:2.0
PRODID:-//MissouriAuctions.net v1//EN
BEGIN:VEVENT
DTSTAMP:20260421T102147Z
STATUS:CONFIRMED
UID:7db67a11b1fdcc991319e4933bd12c16@MissouriAuctions.net
DTSTART:20260525T150000Z
DTEND:20260525T160000Z
SUMMARY:Memorial Day New Strawn Consignment Auction - S & S Sales LLC
DESCRIPTION:Memorial Day New Strawn Consignment Auction
  https://www.missouriauctions.net/calendar/ss/70126/
LOCATION:New Strawn, KS
TRANSP:OPAQUE
END:VEVENT
END:VCALENDAR