BEGIN:VCALENDAR
VERSION:2.0
PRODID:-//MissouriAuctions.net v1//EN
BEGIN:VEVENT
DTSTAMP:20260421T095338Z
STATUS:CONFIRMED
UID:464c56424f6ec38e3686e8d5d0d5375f@MissouriAuctions.net
DTSTART:20260425T150000Z
DTEND:20260425T160000Z
SUMMARY:Real Estate / Estate Auction - McKnight Auction Service & Realty,
  LLC
DESCRIPTION:Beautiful 1400 Sq. Ft. Home on Nice Lot, Tools, Farm
  Implements, Farm Tractors & Commercial Mower, 4 Wheeler & Trike, Trailers,
  Diesel Truck, Guns
  https://www.missouriauctions.net/calendar/mcknight/70125/
LOCATION:806 S Sunmeadow Dr Strafford, MO
TRANSP:OPAQUE
END:VEVENT
END:VCALENDAR