BEGIN:VCALENDAR
VERSION:2.0
PRODID:-//MissouriAuctions.net v1//EN
BEGIN:VEVENT
DTSTAMP:20260421T111458Z
STATUS:CONFIRMED
UID:da4df060d00e2d148435f3d0d03d81d0@MissouriAuctions.net
DTSTART:20260429T000000Z
DTEND:20260429T010000Z
SUMMARY:Real Estate Auction - United Country Midwest Lifestyle Auctions
DESCRIPTION:1782 SW Indianola Rd-60 acres m/l
  https://www.missouriauctions.net/calendar/eberhardt/70121/
LOCATION:1782 SW Indianola Rd Benton, KS
TRANSP:OPAQUE
END:VEVENT
END:VCALENDAR