BEGIN:VCALENDAR
VERSION:2.0
PRODID:-//MissouriAuctions.net v1//EN
BEGIN:VEVENT
DTSTAMP:20260421T094310Z
STATUS:CONFIRMED
UID:977dd80731b97ba88b279908f1fb509d@MissouriAuctions.net
DTSTART:20260425T143000Z
DTEND:20260425T153000Z
SUMMARY:Public Auction - Kooser Auction Service
DESCRIPTION:Farm Equipment & Misc
  https://www.missouriauctions.net/calendar/kooser/70120/
LOCATION:13838 T Rd Mayetta, KS
TRANSP:OPAQUE
END:VEVENT
END:VCALENDAR