BEGIN:VCALENDAR
VERSION:2.0
PRODID:-//MissouriAuctions.net v1//EN
BEGIN:VEVENT
DTSTAMP:20260421T095112Z
STATUS:CONFIRMED
UID:d79c07430b0a1bb100b1c4bd10ce2f72@MissouriAuctions.net
DTSTART:20260628T170000Z
DTEND:20260628T180000Z
SUMMARY:Estate Auction #2 - Elston Auction Co.
DESCRIPTION:Seller: Ruth "Larry" Hatfield
  https://www.missouriauctions.net/calendar/elston/70101/
LOCATION:Lawrence, KS
TRANSP:OPAQUE
END:VEVENT
END:VCALENDAR