BEGIN:VCALENDAR
VERSION:2.0
PRODID:-//MissouriAuctions.net v1//EN
BEGIN:VEVENT
DTSTAMP:20260421T122331Z
STATUS:CONFIRMED
UID:b92a9445e08c4f2f26914619193958c8@MissouriAuctions.net
DTSTART:20260620T170000Z
DTEND:20260620T180000Z
SUMMARY:Estate Auction - Elston Auction Co.
DESCRIPTION:Estate Auction
  https://www.missouriauctions.net/calendar/elston/70100/
LOCATION:Tecumseh, KS
TRANSP:OPAQUE
END:VEVENT
END:VCALENDAR