BEGIN:VCALENDAR
VERSION:2.0
PRODID:-//MissouriAuctions.net v1//EN
BEGIN:VEVENT
DTSTAMP:20260421T122402Z
STATUS:CONFIRMED
UID:36a95713a78a3ce9dbf559447cab4112@MissouriAuctions.net
DTSTART:20260607T170000Z
DTEND:20260607T180000Z
SUMMARY:Estate Auction #1 - Elston Auction Co.
DESCRIPTION:Seller: Ruth "Larry" Hatfield
  https://www.missouriauctions.net/calendar/elston/70099/
LOCATION:Lawrence, KS
TRANSP:OPAQUE
END:VEVENT
END:VCALENDAR