BEGIN:VCALENDAR
VERSION:2.0
PRODID:-//MissouriAuctions.net v1//EN
BEGIN:VEVENT
DTSTAMP:20260421T081108Z
STATUS:CONFIRMED
UID:d72d801ed7140d723a7fea9f7e6fa352@MissouriAuctions.net
DTSTART:20260606T150000Z
DTEND:20260606T160000Z
SUMMARY:Farm Auction - Nisly Auction LLC
DESCRIPTION:Farm & Shop, Shop Tools & Equipment, Household, Antiques
  https://www.missouriauctions.net/calendar/nisly/70090/
LOCATION:20801 Peace Rd Arlington, KS
TRANSP:OPAQUE
END:VEVENT
END:VCALENDAR