BEGIN:VCALENDAR
VERSION:2.0
PRODID:-//MissouriAuctions.net v1//EN
BEGIN:VEVENT
DTSTAMP:20260421T082600Z
STATUS:CONFIRMED
UID:b1a928892fee7c1ac299ffd256c2a8f2@MissouriAuctions.net
DTSTART:20260606T170000Z
DTEND:20260606T180000Z
SUMMARY:Real Estate Auction - Nisly Auction LLC
DESCRIPTION:Tract 1: Farm Home with Improvements and 31.3 Acres. Tract 2:
  Consists of 32.382 Acres of CRP Grass.
  https://www.missouriauctions.net/calendar/nisly/70089/
LOCATION:20801 Peace Rd Arlington, KS
TRANSP:OPAQUE
END:VEVENT
END:VCALENDAR