BEGIN:VCALENDAR
VERSION:2.0
PRODID:-//MissouriAuctions.net v1//EN
BEGIN:VEVENT
DTSTAMP:20260421T081119Z
STATUS:CONFIRMED
UID:2278d1324b5b9524121506f954860b08@MissouriAuctions.net
DTSTART:20260425T150000Z
DTEND:20260425T160000Z
SUMMARY:Public Auction - Hallgren Real Estate & Auctions LLC
DESCRIPTION:Trailer, Tractor & Mower, Farm Equipment & Items, Collectibles,
  Furniture & Misc.
  https://www.missouriauctions.net/calendar/hallgren/70088/
LOCATION:560 Hwy 177 Alta Vista, KS
TRANSP:OPAQUE
END:VEVENT
END:VCALENDAR