BEGIN:VCALENDAR
VERSION:2.0
PRODID:-//MissouriAuctions.net v1//EN
BEGIN:VEVENT
DTSTAMP:20260421T081213Z
STATUS:CONFIRMED
UID:be9e6585d5bddadd01f227a35f450996@MissouriAuctions.net
DTSTART:20260425T150000Z
DTEND:20260425T160000Z
SUMMARY:Public Auction - Baxa Auctions, LLC
DESCRIPTION:Truck, Skid Steer, Mowers, Equipment & Power Tools, Fishing
  Boat w/ Trailer + Motor, Generator, Diesel Space Heaters, RAM Electric A
  Frame Jack
  https://www.missouriauctions.net/calendar/baxa/70086/
LOCATION:439 S Broadway Salina, KS
TRANSP:OPAQUE
END:VEVENT
END:VCALENDAR