BEGIN:VCALENDAR
VERSION:2.0
PRODID:-//MissouriAuctions.net v1//EN
BEGIN:VEVENT
DTSTAMP:20260421T093137Z
STATUS:CONFIRMED
UID:b27c1842bae1a9e85572cdaed57e2633@MissouriAuctions.net
DTSTART:20260425T140000Z
DTEND:20260425T150000Z
SUMMARY:Estate Auction - McGinnis Auction Service
DESCRIPTION:Vehicles, Toys, Glassware, Antique Furniture, Antiques,
  Canning, Oil & Gas Collectables, Coleman Collection, Primitives, Fishing,
  Tools
  https://www.missouriauctions.net/calendar/mcginnis/70078/
LOCATION:8510 KS 7 Mound City, KS
TRANSP:OPAQUE
END:VEVENT
END:VCALENDAR