BEGIN:VCALENDAR
VERSION:2.0
PRODID:-//MissouriAuctions.net v1//EN
BEGIN:VEVENT
DTSTAMP:20260421T172906Z
STATUS:CONFIRMED
UID:d4ff44b615a788dfc88ec205ee409045@MissouriAuctions.net
DTSTART:20260411T150000Z
DTEND:20260411T160000Z
SUMMARY:Estate Auction - McGinnis Auction Service
DESCRIPTION:Estate Auction
  https://www.missouriauctions.net/calendar/mcginnis/70077/
LOCATION:49 N Lakeview Dr Pleasanton, KS
TRANSP:OPAQUE
END:VEVENT
END:VCALENDAR