BEGIN:VCALENDAR
VERSION:2.0
PRODID:-//MissouriAuctions.net v1//EN
BEGIN:VEVENT
DTSTAMP:20260419T202126Z
STATUS:CONFIRMED
UID:e52f2fc2331dc574b9a24cd9ec81c6eb@MissouriAuctions.net
DTSTART:20260606T150000Z
DTEND:20260606T160000Z
SUMMARY:Consignment Auction - Hoffman Auction Service
DESCRIPTION:TAKING CONSIGNMENTS: Farm & Livestock Equip., Harvest Equip.,
  Construction Equip., ATV’s, Lawn & Garden Items
  https://www.missouriauctions.net/calendar/hoffman/70066/
LOCATION:Effingham, KS
TRANSP:OPAQUE
END:VEVENT
END:VCALENDAR