BEGIN:VCALENDAR
VERSION:2.0
PRODID:-//MissouriAuctions.net v1//EN
BEGIN:VEVENT
DTSTAMP:20260421T095637Z
STATUS:CONFIRMED
UID:a11930b837c4f2c7904df7db504cc5e2@MissouriAuctions.net
DTSTART:20260502T150000Z
DTEND:20260502T160000Z
SUMMARY:Online Auction - Brown Auction & Real Estate
DESCRIPTION:Spring Fling 2026 - Day 1
  https://www.missouriauctions.net/calendar/brown/70061/
LOCATION:907 E Kansas Ave Greensburg, KS
TRANSP:OPAQUE
END:VEVENT
END:VCALENDAR