BEGIN:VCALENDAR
VERSION:2.0
PRODID:-//MissouriAuctions.net v1//EN
BEGIN:VEVENT
DTSTAMP:20260421T115456Z
STATUS:CONFIRMED
UID:bbd1c78f4bf211ee4edae3fe65523662@MissouriAuctions.net
DTSTART:20260516T143000Z
DTEND:20260516T153000Z
SUMMARY:Public Auction - Kooser Auction Service
DESCRIPTION:Equipment, Household & Misc.
  https://www.missouriauctions.net/calendar/kooser/70059/
LOCATION:1735 N E 62nd Topeka, KS
TRANSP:OPAQUE
END:VEVENT
END:VCALENDAR