BEGIN:VCALENDAR
VERSION:2.0
PRODID:-//MissouriAuctions.net v1//EN
BEGIN:VEVENT
DTSTAMP:20260421T081004Z
STATUS:CONFIRMED
UID:435311a3517a5f8bb0ed6c246af5a7a1@MissouriAuctions.net
DTSTART:20260425T150000Z
DTEND:20260425T160000Z
SUMMARY:Personal Property Auction - Olmsted Real Estate & Auctions
DESCRIPTION:Tractors & Machinery, Tools, Lawn & Garden, Guns, Collectibles,
  Household
  https://www.missouriauctions.net/calendar/olmsted/69996/
LOCATION:1396 Limestone Rd Marysville, KS
TRANSP:OPAQUE
END:VEVENT
END:VCALENDAR