BEGIN:VCALENDAR
VERSION:2.0
PRODID:-//MissouriAuctions.net v1//EN
BEGIN:VEVENT
DTSTAMP:20260421T082554Z
STATUS:CONFIRMED
UID:355c879b3e240fd5c3622451a598c126@MissouriAuctions.net
DTSTART:20260506T140000Z
DTEND:20260506T150000Z
SUMMARY:Estate Auction - Schneider Auction Service
DESCRIPTION:Selling Will Be Cars, Pickups, Tractors, Trucks, Farm Equipment
  and Vintage Car Parts and More.
  https://www.missouriauctions.net/calendar/schneider/69963/
LOCATION:11726 BB Rd Bazine, KS
TRANSP:OPAQUE
END:VEVENT
END:VCALENDAR