BEGIN:VCALENDAR
VERSION:2.0
PRODID:-//MissouriAuctions.net v1//EN
BEGIN:VEVENT
DTSTAMP:20260421T121930Z
STATUS:CONFIRMED
UID:a969d24f3bc8ac5b82e1ced28d780db3@MissouriAuctions.net
DTSTART:20260502T143000Z
DTEND:20260502T153000Z
SUMMARY:Public Auction - Thummel Real Estate & Auction LLC
DESCRIPTION:Collector Car, Truck, Tractor & Antique Auction
  https://www.missouriauctions.net/calendar/thummel/69912/
LOCATION:14820 Arispie Rd Onaga, KS
TRANSP:OPAQUE
END:VEVENT
END:VCALENDAR