BEGIN:VCALENDAR
VERSION:2.0
PRODID:-//MissouriAuctions.net v1//EN
BEGIN:VEVENT
DTSTAMP:20260422T103930Z
STATUS:CONFIRMED
UID:e8da4dfe0ee37de7a4cb72e83ddf3dfa@MissouriAuctions.net
DTSTART:20260411T143000Z
DTEND:20260411T153000Z
SUMMARY:Public Auction - Kooser Auction Service
DESCRIPTION:Furniture, Tools & Misc.
  https://www.missouriauctions.net/calendar/kooser/69886/
LOCATION:127 N W Van Buren Topeka, KS
TRANSP:OPAQUE
END:VEVENT
END:VCALENDAR