BEGIN:VCALENDAR
VERSION:2.0
PRODID:-//MissouriAuctions.net v1//EN
BEGIN:VEVENT
DTSTAMP:20260422T090231Z
STATUS:CONFIRMED
UID:ca1e320159c80ffece1dc7fb734369cb@MissouriAuctions.net
DTSTART:20260315T170000Z
DTEND:20260315T180000Z
SUMMARY:Online Auction - American Family Auctions
DESCRIPTION:This auction features a little bit of everything. From home
  goods to antiques to collectibles to toys to furniture and much much more.
  https://www.missouriauctions.net/calendar/americanfamily/69865/
LOCATION:2325 NW Clay St Topeka, KS
TRANSP:OPAQUE
END:VEVENT
END:VCALENDAR