BEGIN:VCALENDAR
VERSION:2.0
PRODID:-//MissouriAuctions.net v1//EN
BEGIN:VEVENT
DTSTAMP:20260421T082521Z
STATUS:CONFIRMED
UID:6478431ea24dd938d9ad5e8d2dc1853c@MissouriAuctions.net
DTSTART:20260428T150000Z
DTEND:20260428T160000Z
SUMMARY:Farm Machinery Auction - Thummel Real Estate & Auction LLC
DESCRIPTION:Tractors, Skid Loader, Combine & Trucks, Machinery & Cattle
  Equipment
  https://www.missouriauctions.net/calendar/thummel/69844/
LOCATION:1341 180 Rd Mankato, KS
TRANSP:OPAQUE
END:VEVENT
END:VCALENDAR