BEGIN:VCALENDAR
VERSION:2.0
PRODID:-//MissouriAuctions.net v1//EN
BEGIN:VEVENT
DTSTAMP:20260421T080948Z
STATUS:CONFIRMED
UID:8e8abae2c04979a50b2749832a789e7d@MissouriAuctions.net
DTSTART:20260627T190000Z
DTEND:20260627T200000Z
SUMMARY:International Coleman Collectors Auction - Ron Stricker's Auction
DESCRIPTION:International Coleman Collectors Auction
  https://www.missouriauctions.net/calendar/ronstricker/69817/
LOCATION:Frankenmuth, MI
TRANSP:OPAQUE
END:VEVENT
END:VCALENDAR