BEGIN:VCALENDAR
VERSION:2.0
PRODID:-//MissouriAuctions.net v1//EN
BEGIN:VEVENT
DTSTAMP:20260424T154454Z
STATUS:CONFIRMED
UID:d75e7eea1cd99902d0aea0e781909828@MissouriAuctions.net
DTSTART:20260706T230000Z
DTEND:20260707T000000Z
SUMMARY:Monday Night Auction - Ron Stricker's Auction
DESCRIPTION:Monday Night Auction
  https://www.missouriauctions.net/calendar/ronstricker/69815/
LOCATION:790 N Center St Gardner, KS
TRANSP:OPAQUE
END:VEVENT
END:VCALENDAR